BEGIN:VCALENDAR
VERSION:2.0
METHOD:PUBLISH
PRODID:-//hacksw/handcal//NONSGML v1.0//EN
BEGIN:VEVENT
DTSTAMP:20260422T142603Z
DTSTART:20260504T180000Z
DTEND:20260504T180000Z
UID:20260504T180000Z-20260504T180000Z-1133@www.e-dynamics.be
SUMMARY:Traditional music session
DESCRIPTION:4 May 26 - 20:00   The Crane Bar 2\, Sea
  Road Galway
X-ALT-DESC;FMTTYPE=text/html:4 May 26 - 20:00 <br />  <br />The Crane 
 Bar <br />2\, Sea Road <br />Galway
URL:https://www.e-dynamics.be/wordpress/events/traditional-music-sessi
 on-3/?lang=en
ATTACH:https://www.e-dynamics.be/wordpress/events/traditional-music-se
 ssion-3/?lang=en
LOCATION:The Crane Bar\, 2\, Sea Road\, Galway
END:VEVENT
END:VCALENDAR
