BEGIN:VCALENDAR
VERSION:2.0
METHOD:PUBLISH
PRODID:-//hacksw/handcal//NONSGML v1.0//EN
BEGIN:VEVENT
DTSTAMP:20260425T145019Z
DTSTART:20260505T140000Z
DTEND:20260505T140000Z
UID:20260505T140000Z-20260505T140000Z-1129@www.e-dynamics.be
SUMMARY:Orality in James Joyce Conference
DESCRIPTION:5 May 26 - 16:00   Arts Millenium Building Newcastle Road Galway
X-ALT-DESC;FMTTYPE=text/html:5 May 26 - 16:00 <br />  <br />Arts Mille
 nium Building <br />Newcastle Road <br />Galway
URL:https://www.e-dynamics.be/wordpress/events/orality-in-james-joyce-
 conference-9/?lang=en
ATTACH:https://www.e-dynamics.be/wordpress/events/orality-in-james-joy
 ce-conference-9/?lang=en
LOCATION:Arts Millenium Building\, Newcastle Road\, Galway
END:VEVENT
END:VCALENDAR
